BEGIN:VCALENDAR
VERSION:2.0
PRODID:-//Love and Kindness - ECPv6.0.7//NONSGML v1.0//EN
CALSCALE:GREGORIAN
METHOD:PUBLISH
X-WR-CALNAME:Love and Kindness
X-ORIGINAL-URL:https://lk-wellness.com
X-WR-CALDESC:Events for Love and Kindness
REFRESH-INTERVAL;VALUE=DURATION:PT1H
X-Robots-Tag:noindex
X-PUBLISHED-TTL:PT1H
BEGIN:VTIMEZONE
TZID:America/New_York
BEGIN:DAYLIGHT
TZOFFSETFROM:-0500
TZOFFSETTO:-0400
TZNAME:EDT
DTSTART:20200308T070000
END:DAYLIGHT
BEGIN:STANDARD
TZOFFSETFROM:-0400
TZOFFSETTO:-0500
TZNAME:EST
DTSTART:20201101T060000
END:STANDARD
END:VTIMEZONE
BEGIN:VEVENT
DTSTART;TZID=America/New_York:20200701T180000
DTEND;TZID=America/New_York:20200701T190000
DTSTAMP:20260420T031443
CREATED:20200623T100052Z
LAST-MODIFIED:20200624T042818Z
UID:10000483-1593626400-1593630000@lk-wellness.com
SUMMARY:Yoga Therapy for Anxiety
DESCRIPTION:In this class\, we will explore how to shift out of a state of anxiety and panic\, to a state of feeling grounded\, safe\, and breathing deeper. We will explore expanding our capacity to be with chaos and learn tools we can use off the mat to lessen anxiety. \nRegister To Attend
URL:https://lk-wellness.com/event/anxiety-therapy/
CATEGORIES:Yoga
ATTACH;FMTTYPE=image/png:https://lk-wellness.com/wp-content/uploads/2020/07/LK-Anxeity-Flyer-2020-Square-1080x1080-2.png
ORGANIZER;CN="Rysse%20Guzman":MAILTO:rguzman@loveandkindnessllc.com
END:VEVENT
BEGIN:VEVENT
DTSTART;TZID=America/New_York:20200624T180000
DTEND;TZID=America/New_York:20200624T190000
DTSTAMP:20260420T031443
CREATED:20200623T101047Z
LAST-MODIFIED:20230209T132607Z
UID:10000484-1593021600-1593025200@lk-wellness.com
SUMMARY:Yoga Therapy for Trauma Release
DESCRIPTION:In this class\, we will explore releasing stuck trauma in the body. Through gentle movement and trauma release exercises\, we will practice resourcing ourselves so that the body feels safe enough to release pain and survival strategies that no longer serve us. \n 
URL:https://lk-wellness.com/event/yoga-therapy-for-trauma-release/
CATEGORIES:Yoga
ATTACH;FMTTYPE=image/png:https://lk-wellness.com/wp-content/uploads/2020/06/LK-Trauma-Release-Flyer-2020-1080x1080-2.png
END:VEVENT
END:VCALENDAR