BEGIN:VCALENDAR
VERSION:2.0
PRODID:-//Love and Kindness - ECPv6.0.7//NONSGML v1.0//EN
CALSCALE:GREGORIAN
METHOD:PUBLISH
X-WR-CALNAME:Love and Kindness
X-ORIGINAL-URL:https://lk-wellness.com
X-WR-CALDESC:Events for Love and Kindness
REFRESH-INTERVAL;VALUE=DURATION:PT1H
X-Robots-Tag:noindex
X-PUBLISHED-TTL:PT1H
BEGIN:VTIMEZONE
TZID:America/New_York
BEGIN:DAYLIGHT
TZOFFSETFROM:-0500
TZOFFSETTO:-0400
TZNAME:EDT
DTSTART:20260308T070000
END:DAYLIGHT
BEGIN:STANDARD
TZOFFSETFROM:-0400
TZOFFSETTO:-0500
TZNAME:EST
DTSTART:20261101T060000
END:STANDARD
END:VTIMEZONE
BEGIN:VEVENT
DTSTART;TZID=America/New_York:20260305T183000
DTEND;TZID=America/New_York:20260305T200000
DTSTAMP:20260421T071529
CREATED:20260211T170338Z
LAST-MODIFIED:20260211T172626Z
UID:10001201-1772735400-1772740800@lk-wellness.com
SUMMARY:Black Women Speak: Remembering Ourselves: Our Bodies\, Our Stories\, Our Legacy
DESCRIPTION:We’re excited to invite you to Black Women Speak\, a monthly community circle created for Black women to pause\, reflect\, and restore together. \nEach gathering offers space to reconnect with yourself and others through honest conversation\, shared reflection\, and collective care. This circle centers restoration as a practice of reclaiming our time\, energy\, and wholeness in a world that often asks us to give endlessly. \n✨ This Month’s Focus: Remembering Ourselves: Our Bodies\, Our Stories\, Our Legacy\nIn honor of Women’s History Month\, Black Women Speak invites you to to honor Black women’s history as lived experience. History that’s held in our bodies\, relationships\, and everyday acts of care. Through guided reflection and shared conversation\, we’ll explore what we carry forward\, what we release\, and how Black women continue to define legacy on our own terms. \n📅 Date: Thursday\, March 5th 2026\n 🕡 Time: 6:30pm – 8:00pm EST\n 💻 Location: Over Zoom \nFacilitated by Kelsey Akpan\, LMSW\, this gathering welcomes Black women seeking rest\, connection\, and meaningful reflection. \nWe look forward to being in community with you and continuing to cultivate space for care\, restoration\, and collective healing.
URL:https://lk-wellness.com/event/black-women-speak-29/
CATEGORIES:Wellness Events
ATTACH;FMTTYPE=image/jpeg:https://lk-wellness.com/wp-content/uploads/2026/02/Black-Women-Speak-3.5-Flyer.jpg
LOCATION:https://lk-wellness.com/event/black-women-speak-29/
END:VEVENT
END:VCALENDAR