BEGIN:VCALENDAR
VERSION:2.0
PRODID:-//Love and Kindness - ECPv6.0.7//NONSGML v1.0//EN
CALSCALE:GREGORIAN
METHOD:PUBLISH
X-ORIGINAL-URL:https://lk-wellness.com
X-WR-CALDESC:Events for Love and Kindness
REFRESH-INTERVAL;VALUE=DURATION:PT1H
X-Robots-Tag:noindex
X-PUBLISHED-TTL:PT1H
BEGIN:VTIMEZONE
TZID:America/New_York
BEGIN:DAYLIGHT
TZOFFSETFROM:-0500
TZOFFSETTO:-0400
TZNAME:EDT
DTSTART:20240310T070000
END:DAYLIGHT
BEGIN:STANDARD
TZOFFSETFROM:-0400
TZOFFSETTO:-0500
TZNAME:EST
DTSTART:20241103T060000
END:STANDARD
END:VTIMEZONE
BEGIN:VEVENT
DTSTART;TZID=America/New_York:20241109T120000
DTEND;TZID=America/New_York:20241109T160000
DTSTAMP:20260420T231158
CREATED:20240930T195714Z
LAST-MODIFIED:20241026T104725Z
UID:10001071-1731153600-1731168000@lk-wellness.com
SUMMARY:Black Men Speak: Celebrating Resilience and Joy
DESCRIPTION:Black Men Speak: A Tribute to Strength and Wellness is more than just an event; it is a celebration of Black manhood\, camaraderie\, and positive mental health. We aim to create an uplifting and supportive environment that highlights the strength\, resilience\, and joy within our community. Join us as we honor local community leaders\, engage in thoughtful discussions\, and celebrate the achievements and contributions of Black men. \nSee event details and how to register
URL:https://lk-wellness.com/event/black-men-speak-celebrating-resilience-and-joy/
LOCATION:Bedford Stuyvesant Restoration Corporation 1368 Fulton Street Brooklyn\, NY 11216
CATEGORIES:Wellness Events
ATTACH;FMTTYPE=image/jpeg:https://lk-wellness.com/wp-content/uploads/2024/10/WhatsApp-Image-2024-10-21-at-16.35.32.jpeg
ORGANIZER;CN="Love%20and%20Kindness%20Wellness%20Services":MAILTO:info@lk-wellness.com
END:VEVENT
END:VCALENDAR