BEGIN:VCALENDAR
VERSION:2.0
PRODID:-//Love and Kindness - ECPv6.0.7//NONSGML v1.0//EN
CALSCALE:GREGORIAN
METHOD:PUBLISH
X-ORIGINAL-URL:https://lk-wellness.com
X-WR-CALDESC:Events for Love and Kindness
REFRESH-INTERVAL;VALUE=DURATION:PT1H
X-Robots-Tag:noindex
X-PUBLISHED-TTL:PT1H
BEGIN:VTIMEZONE
TZID:America/New_York
BEGIN:DAYLIGHT
TZOFFSETFROM:-0500
TZOFFSETTO:-0400
TZNAME:EDT
DTSTART:20240310T070000
END:DAYLIGHT
BEGIN:STANDARD
TZOFFSETFROM:-0400
TZOFFSETTO:-0500
TZNAME:EST
DTSTART:20241103T060000
END:STANDARD
END:VTIMEZONE
BEGIN:VEVENT
DTSTART;TZID=America/New_York:20241010T180000
DTEND;TZID=America/New_York:20241010T193000
DTSTAMP:20260420T010608
CREATED:20240117T180523Z
LAST-MODIFIED:20240210T105120Z
UID:10001043-1728583200-1728588600@lk-wellness.com
SUMMARY:Black Men Speak
DESCRIPTION:“Black Men Speak” is a space for Black men to rest the armor of masculinity\, and explore the many ways we show up in the world. We aim to speak about everything from the mundane to the taboo. We also look to connect with our bodies\, and to hold space for the inner child to play and be validated. Join us monthly\, as we grow together.  \n\n\n\n\n\n\n\n\n\n\n \n\n\n\n \n\n\n\n \n\n\n\n \n\n\n\n 
URL:https://lk-wellness.com/event/black-men-speak-17/2024-10-10/
CATEGORIES:Wellness Events
ATTACH;FMTTYPE=image/jpeg:https://lk-wellness.com/wp-content/uploads/2022/02/blvckmenspeak_img.jpeg
ORGANIZER;CN="Love%20and%20Kindness%20Wellness%20Services":MAILTO:info@lk-wellness.com
LOCATION:https://lk-wellness.com/event/black-men-speak-17/2024-10-10/
END:VEVENT
BEGIN:VEVENT
DTSTART;TZID=America/New_York:20241010T190000
DTEND;TZID=America/New_York:20241010T200000
DTSTAMP:20260420T010608
CREATED:20241007T131338Z
LAST-MODIFIED:20241007T131756Z
UID:10001072-1728586800-1728590400@lk-wellness.com
SUMMARY:Beyond the Blues: Reimagining Your Relationship with Depression
DESCRIPTION:A group aimed at cultivating a better relationship with depression using Western and non-Western therapeutic techniques. Open to all 18 years and older.
URL:https://lk-wellness.com/event/beyond-the-blues-reimagining-your-relationship-with-depression-6/
CATEGORIES:Wellness Events
ATTACH;FMTTYPE=image/jpeg:https://lk-wellness.com/wp-content/uploads/2024/10/LK_Depression-Beyond-the-Blues_2024-copy.jpg
ORGANIZER;CN="Love%20and%20Kindness%20Wellness%20Services":MAILTO:info@lk-wellness.com
LOCATION:https://lk-wellness.com/event/beyond-the-blues-reimagining-your-relationship-with-depression-6/
END:VEVENT
END:VCALENDAR