BEGIN:VCALENDAR
VERSION:2.0
PRODID:-//Love and Kindness - ECPv6.0.7//NONSGML v1.0//EN
CALSCALE:GREGORIAN
METHOD:PUBLISH
X-ORIGINAL-URL:https://lk-wellness.com
X-WR-CALDESC:Events for Love and Kindness
REFRESH-INTERVAL;VALUE=DURATION:PT1H
X-Robots-Tag:noindex
X-PUBLISHED-TTL:PT1H
BEGIN:VTIMEZONE
TZID:America/New_York
BEGIN:DAYLIGHT
TZOFFSETFROM:-0500
TZOFFSETTO:-0400
TZNAME:EDT
DTSTART:20240310T070000
END:DAYLIGHT
BEGIN:STANDARD
TZOFFSETFROM:-0400
TZOFFSETTO:-0500
TZNAME:EST
DTSTART:20241103T060000
END:STANDARD
END:VTIMEZONE
BEGIN:VEVENT
DTSTART;TZID=America/New_York:20240610T180000
DTEND;TZID=America/New_York:20240610T193000
DTSTAMP:20260419T214622
CREATED:20240529T223228Z
LAST-MODIFIED:20240602T182424Z
UID:10001059-1718042400-1718047800@lk-wellness.com
SUMMARY:Social Anxiety Workshop
DESCRIPTION:L&K – Love & Kindness Wellness Services \nBRAZENLY ME AND MY SOCIAL ANXIETY \nMonday\, June 10\, 2024\n6-7:30pm EST\nvia Zoom \nFor individuals 18 years or older \nThis workshop is for individuals who are experiencing social anxiety symptoms and would like to explore new ways of navigating them. \nThrough curious engagement and a combination of Western and Indigenous techniques\, participants will walk away with new ways of relating to\, and working with\, their social anxiety. \nRSVP at lk-wellness.com/wellness-events \nFor more information please contact us\ninfo@lk-wellness.com\n108 Kenilworth Pl.\, Brooklyn\, NY 11210
URL:https://lk-wellness.com/event/social-anxiety-workshop/
CATEGORIES:Wellness Events
ATTACH;FMTTYPE=image/jpeg:https://lk-wellness.com/wp-content/uploads/2024/05/LK-Event-Fearless-Anxiety-2022-copy.jpg
ORGANIZER;CN="Love%20and%20Kindness%20Wellness%20Services":MAILTO:info@lk-wellness.com
LOCATION:https://lk-wellness.com/event/social-anxiety-workshop/
END:VEVENT
END:VCALENDAR