BEGIN:VCALENDAR
VERSION:2.0
PRODID:-//Love and Kindness - ECPv6.0.7//NONSGML v1.0//EN
CALSCALE:GREGORIAN
METHOD:PUBLISH
X-WR-CALNAME:Love and Kindness
X-ORIGINAL-URL:https://lk-wellness.com
X-WR-CALDESC:Events for Love and Kindness
REFRESH-INTERVAL;VALUE=DURATION:PT1H
X-Robots-Tag:noindex
X-PUBLISHED-TTL:PT1H
BEGIN:VTIMEZONE
TZID:America/New_York
BEGIN:DAYLIGHT
TZOFFSETFROM:-0500
TZOFFSETTO:-0400
TZNAME:EDT
DTSTART:20240310T070000
END:DAYLIGHT
BEGIN:STANDARD
TZOFFSETFROM:-0400
TZOFFSETTO:-0500
TZNAME:EST
DTSTART:20241103T060000
END:STANDARD
END:VTIMEZONE
BEGIN:VEVENT
DTSTART;TZID=America/New_York:20240418T180000
DTEND;TZID=America/New_York:20240418T200000
DTSTAMP:20260421T201321
CREATED:20240406T134754Z
LAST-MODIFIED:20240412T163146Z
UID:10001048-1713463200-1713470400@lk-wellness.com
SUMMARY:Black Men Speak: Groomed Sessions ~ Balanced Living
DESCRIPTION:Where Brooklyn at!? Join us for Balanced Living: Harmonizing Mental and Physical Health\, a soulful community discussion on the profound connection between our minds and bodies. Gain practical insights into men’s wellness and uncover invaluable tips for nurturing your inner and outer well-being. \nF&S Barbershop \n4410 Church Ave \nBrooklyn\, NY 11203 \nThursday – April 18th\, 6pm to 8pm \n\nFree Haircuts from 6pm to 7pm\nLight Refreshments\n\nTopics of Discussion \n\nUnderstanding the holistic connection between mental and physical health in men’s wellness\nExploring practical strategies for achieving balance and harmony in daily life\nAddressing common challenges and barriers to prioritizing mental and physical well-being among black men\nSharing personal stories and experiences to foster a sense of community and support\nProviding actionable tips and resources for nurturing both inner and outer well-being in everyday life\n\nWhat is Groomed Sessions? \nGroomed Sessions is where men come together to explore the intricate layers of their mental and emotional health\, creating an environment where the clippers are as much about shaping one’s appearance as they are about building meaningful dialogue. \nFrom discussions on mental health coping strategies and breaking societal stigmas to celebrating the narratives of Black fatherhood through shared stories and talks. \nGroomed Sessions isn’t just about haircuts and grooming—It’s a celebration of self-care\, brotherhood\, and the unwavering spirit that defines men’s wellness. \nSee you there and let’s be in COMMUNITY! \nFor More Information: LK-WELLNESS.COM \nContact: Michael McConnell – Community@lk-wellness.com \nBalanced Living: Harmonizing Mental and Physical Health \nJoin us for Balanced Living: Harmonizing Mental and Physical Health\, a soulful community discussion on the profound connection between our minds and bodies. Gain practical insights into men’s wellness and uncover invaluable tips for nurturing your inner and outer well-being.
URL:https://lk-wellness.com/event/black-men-speak-groomed-sessions-balanced-living/
CATEGORIES:Wellness Events
ATTACH;FMTTYPE=image/png:https://lk-wellness.com/wp-content/uploads/2024/04/Black-Men-Speak-Groomed-Sessions-Part-2V1-1.png
END:VEVENT
END:VCALENDAR