BEGIN:VCALENDAR
VERSION:2.0
PRODID:-//Love and Kindness - ECPv6.0.7//NONSGML v1.0//EN
CALSCALE:GREGORIAN
METHOD:PUBLISH
X-ORIGINAL-URL:https://lk-wellness.com
X-WR-CALDESC:Events for Love and Kindness
REFRESH-INTERVAL;VALUE=DURATION:PT1H
X-Robots-Tag:noindex
X-PUBLISHED-TTL:PT1H
BEGIN:VTIMEZONE
TZID:America/New_York
BEGIN:DAYLIGHT
TZOFFSETFROM:-0500
TZOFFSETTO:-0400
TZNAME:EDT
DTSTART:20230312T070000
END:DAYLIGHT
BEGIN:STANDARD
TZOFFSETFROM:-0400
TZOFFSETTO:-0500
TZNAME:EST
DTSTART:20231105T060000
END:STANDARD
END:VTIMEZONE
BEGIN:VEVENT
DTSTART;TZID=America/New_York:20231108T180000
DTEND;TZID=America/New_York:20231108T193000
DTSTAMP:20260420T082647
CREATED:20231025T204022Z
LAST-MODIFIED:20231025T204146Z
UID:10000964-1699466400-1699471800@lk-wellness.com
SUMMARY:Parenting Neurodiversity: A Workshop for Parents of Neurodiverse Children
DESCRIPTION:Join us for an evening of learning\, building community\, discussion\, and exploration of what it means to parent neurodiverse children! In this workshop you’ll meet other parents on the same journey and create a space where we can all share tools and information about neurodiversity\, parenting\, and tips on ways to raise joyful humans in spite of the challenges faced. \n\nFacilitators: Thema Bradford\, MHC-LP\, Reiki Master\, Mindset Coach\n\n\nErika Doomes\, MSW-LP
URL:https://lk-wellness.com/event/parenting-neurodiversity-a-workshop-for-parents-of-neurodiverse-children/
CATEGORIES:Wellness Events
ATTACH;FMTTYPE=image/png:https://lk-wellness.com/wp-content/uploads/2023/10/Screenshot-2023-10-25-at-11.01.36-PM.png
ORGANIZER;CN="Love%20and%20Kindness%20Wellness%20Services":MAILTO:info@lk-wellness.com
LOCATION:https://lk-wellness.com/event/parenting-neurodiversity-a-workshop-for-parents-of-neurodiverse-children/
END:VEVENT
END:VCALENDAR