BEGIN:VCALENDAR
VERSION:2.0
PRODID:-//Love and Kindness - ECPv6.0.7//NONSGML v1.0//EN
CALSCALE:GREGORIAN
METHOD:PUBLISH
X-ORIGINAL-URL:https://lk-wellness.com
X-WR-CALDESC:Events for Love and Kindness
REFRESH-INTERVAL;VALUE=DURATION:PT1H
X-Robots-Tag:noindex
X-PUBLISHED-TTL:PT1H
BEGIN:VTIMEZONE
TZID:America/New_York
BEGIN:DAYLIGHT
TZOFFSETFROM:-0500
TZOFFSETTO:-0400
TZNAME:EDT
DTSTART:20230312T070000
END:DAYLIGHT
BEGIN:STANDARD
TZOFFSETFROM:-0400
TZOFFSETTO:-0500
TZNAME:EST
DTSTART:20231105T060000
END:STANDARD
END:VTIMEZONE
BEGIN:VEVENT
DTSTART;TZID=America/New_York:20231025T180000
DTEND;TZID=America/New_York:20231025T200000
DTSTAMP:20260421T142123
CREATED:20230925T070145Z
LAST-MODIFIED:20231006T020756Z
UID:10000927-1698256800-1698264000@lk-wellness.com
SUMMARY:Introduction to Mindfulness-Based Stress Reduction
DESCRIPTION:Mindfulness-Based Stress Reduction (MBSR) is a transformative course which can be supportive to people who have never meditated as well as to those who have experience. MBSR has been proven to be effective in managing pain and decreasing stress. \nBenefits of MBSR: \n\nImproved ability to handle stressful situations with coping skills\nGreater relaxation\, physically and mentally\nDecreased physical and psychological symptoms of stress\nReduced pain levels\nReduced reactivity and greater ease toward change\nIncreased awareness of the interplay of mind and body in health and illness.
URL:https://lk-wellness.com/event/introduction-to-mindfulness-based-stress-reduction-2/
CATEGORIES:Wellness Events
ATTACH;FMTTYPE=image/png:https://lk-wellness.com/wp-content/uploads/2023/09/Screenshot-2023-09-25-at-10.02.48-AM.png
ORGANIZER;CN="Love%20and%20Kindness%20Wellness%20Services":MAILTO:info@lk-wellness.com
LOCATION:https://lk-wellness.com/event/introduction-to-mindfulness-based-stress-reduction-2/
END:VEVENT
END:VCALENDAR